BEGIN:VCALENDAR
VERSION:2.0
PRODID:-//DOAG - ECPv4.2.4//NONSGML v1.0//EN
CALSCALE:GREGORIAN
METHOD:PUBLISH
X-WR-CALNAME:DOAG
X-ORIGINAL-URL:https://doag.guam.gov
X-WR-CALDESC:Events for DOAG
BEGIN:VEVENT
DTSTART;TZID=UTC+0:20160927T180000
DTEND;TZID=UTC+0:20161001T200000
DTSTAMP:20260425T021754
CREATED:20160905T111204
LAST-MODIFIED:20160908T060951
UID:2567-1474999200-1475352000@doag.guam.gov
SUMMARY:Election Forum - Meet the Candidates
DESCRIPTION:Now it's your time to ask the questions to your candidates! The Guam Election Commission will be conducting a series of open forums open to the general public towards the last week of September at 6 p.m. at the Mangilao Mayor's Office.\n\nYou get the chance to ask your candidates to address the hard topics. The series will focus on large topics including the military buildup\, tourism\, future economy and legislation\, and much more.\n\nThere will be light refreshments and small entertainment featuring local Chamorro cultural dance groups.\n\n\n
URL:https://doag.guam.gov/event/xx_recurance_exclude/2016-09-27/
LOCATION:105 Commissioner Way\, Mangilao\, Mangilao\, 10\, Guam
GEO:25.3652653;144.236565
X-APPLE-STRUCTURED-LOCATION;VALUE=URI;X-ADDRESS=105 Commissioner Way Mangilao Mangilao 10 Guam;X-APPLE-RADIUS=500;X-TITLE=105 Commissioner Way:geo:144.236565,25.3652653
CATEGORIES:Elections,Public
ATTACH;FMTTYPE=image/png:https://doag.guam.gov/wp-doag-content/uploads/2016/09/Logo.png
ORGANIZER;CN="Federal":MAILTO:otech@guam.gov
END:VEVENT
END:VCALENDAR