BEGIN:VCALENDAR
VERSION:2.0
PRODID:-//DOAG - ECPv4.2.4//NONSGML v1.0//EN
CALSCALE:GREGORIAN
METHOD:PUBLISH
X-WR-CALNAME:DOAG
X-ORIGINAL-URL:https://doag.guam.gov
X-WR-CALDESC:Events for DOAG
BEGIN:VEVENT
DTSTART;TZID=UTC+0:20180228T080000
DTEND;TZID=UTC+0:20180228T170000
DTSTAMP:20210915T035128
CREATED:20180213T052149
LAST-MODIFIED:20180213T052149
UID:3520-1519804800-1519837200@doag.guam.gov
SUMMARY:USDA Plant Inspection Station tour
DESCRIPTION:Come visit our facility and meet our team on Feb 27 or Feb 28!\nCall 475-1427 for more info.
URL:https://doag.guam.gov/event/usda-plant-inspection-station-tour/
END:VEVENT
END:VCALENDAR