BEGIN:VCALENDAR
VERSION:2.0
PRODID:-//DOAG - ECPv4.2.4//NONSGML v1.0//EN
CALSCALE:GREGORIAN
METHOD:PUBLISH
X-WR-CALNAME:DOAG
X-ORIGINAL-URL:https://doag.guam.gov
X-WR-CALDESC:Events for DOAG
BEGIN:VEVENT
DTSTART;TZID=UTC+0:20180301T080000
DTEND;TZID=UTC+0:20180301T170000
DTSTAMP:20260425T140056
CREATED:20180205T013026
LAST-MODIFIED:20180205T013026
UID:3498-1519891200-1519923600@doag.guam.gov
SUMMARY:Pest control companies and Invasive Species Council members information sharing meeting
DESCRIPTION:
URL:https://doag.guam.gov/event/pest-control-companies-and-invasive-species-council-members-information-sharing-meeting/
END:VEVENT
END:VCALENDAR