BEGIN:VCALENDAR
VERSION:2.0
PRODID:-//DOAG - ECPv4.2.4//NONSGML v1.0//EN
CALSCALE:GREGORIAN
METHOD:PUBLISH
X-WR-CALNAME:DOAG
X-ORIGINAL-URL:https://doag.guam.gov
X-WR-CALDESC:Events for DOAG
BEGIN:VEVENT
DTSTART;TZID=UTC+0:20180226T080000
DTEND;TZID=UTC+0:20180228T170000
DTSTAMP:20260426T030412
CREATED:20180205T083028
LAST-MODIFIED:20180205T083028
UID:3511-1519632000-1519837200@doag.guam.gov
SUMMARY:Pacific Preservation Summit
DESCRIPTION:
URL:https://doag.guam.gov/event/pacific-preservation-summit/
END:VEVENT
END:VCALENDAR