BEGIN:VCALENDAR
VERSION:2.0
PRODID:-//DOAG - ECPv4.2.4//NONSGML v1.0//EN
CALSCALE:GREGORIAN
METHOD:PUBLISH
X-WR-CALNAME:DOAG
X-ORIGINAL-URL:https://doag.guam.gov
X-WR-CALDESC:Events for DOAG
BEGIN:VEVENT
DTSTART;TZID=UTC+0:20180228T180000
DTEND;TZID=UTC+0:20180228T190000
DTSTAMP:20260424T221230
CREATED:20180205T012900
LAST-MODIFIED:20180215T055715
UID:3495-1519840800-1519844400@doag.guam.gov
SUMMARY:Kontra I Kulepbla Brown Treesnake Control Workshop
DESCRIPTION:Free event @ Yigo Gym
URL:https://doag.guam.gov/event/kontra-i-kulepbla-brown-treesnake-control-workshop/
END:VEVENT
END:VCALENDAR