BEGIN:VCALENDAR
VERSION:2.0
PRODID:-//DOAG - ECPv4.2.4//NONSGML v1.0//EN
CALSCALE:GREGORIAN
METHOD:PUBLISH
X-WR-CALNAME:DOAG
X-ORIGINAL-URL:https://doag.guam.gov
X-WR-CALDESC:Events for DOAG
BEGIN:VEVENT
DTSTART;TZID=UTC+0:20180201T100000
DTEND;TZID=UTC+0:20180201T120000
DTSTAMP:20260425T182907
CREATED:20180205T011709
LAST-MODIFIED:20180205T011859
UID:3485-1517479200-1517486400@doag.guam.gov
SUMMARY:Guam Invasive Species Advisory Council Meeting
DESCRIPTION:
URL:https://doag.guam.gov/event/guam-invasive-species-advisory-council-meeting/
END:VEVENT
END:VCALENDAR