BEGIN:VCALENDAR
VERSION:2.0
PRODID:-//DOAG - ECPv4.2.4//NONSGML v1.0//EN
CALSCALE:GREGORIAN
METHOD:PUBLISH
X-WR-CALNAME:DOAG
X-ORIGINAL-URL:https://doag.guam.gov
X-WR-CALDESC:Events for DOAG
BEGIN:VEVENT
DTSTART;TZID=UTC+0:20180224T180000
DTEND;TZID=UTC+0:20180224T200000
DTSTAMP:20260424T235952
CREATED:20180205T012635
LAST-MODIFIED:20180205T012635
UID:3492-1519495200-1519502400@doag.guam.gov
SUMMARY:Guam Hunter Education Program Film Premiere of "An Acquired Taste"
DESCRIPTION:FREE event
URL:https://doag.guam.gov/event/guam-hunter-education-program-film-premiere-of-an-acquired-taste/
END:VEVENT
END:VCALENDAR