BEGIN:VCALENDAR
VERSION:2.0
PRODID:-//DOAG - ECPv4.2.4//NONSGML v1.0//EN
CALSCALE:GREGORIAN
METHOD:PUBLISH
X-WR-CALNAME:DOAG
X-ORIGINAL-URL:https://doag.guam.gov
X-WR-CALDESC:Events for DOAG
BEGIN:VEVENT
DTSTART;TZID=UTC+0:20160817T090000
DTEND;TZID=UTC+0:20160818T190000
DTSTAMP:20260425T223614
CREATED:20160817T102200
LAST-MODIFIED:20160825T102611
UID:2216-1471424400-1471546800@doag.guam.gov
SUMMARY:GDOE Employees' Workshop
DESCRIPTION:The Guam Department of Education will be holding a counseling/emotion regulation workshop from August 17th - 18th from 8 a.m. to 2 p.m. This workshop is mandatory for all employees\, excluding Board Members. This workshop seeks to understand and regulate students' emotional capacity and cognition\, as well as its efficacy towards a better classroom environment.\n\nClasses will not be in session and will resume on Friday\, August 19th.
URL:https://doag.guam.gov/event/event2/
LOCATION:1600 Holloway Ave\, San Francisco\, CA 94132\, United States\, San Francisco\, AL\, 2255\, United States
GEO:21.2656512;92.2656
X-APPLE-STRUCTURED-LOCATION;VALUE=URI;X-ADDRESS=1600 Holloway Ave San Francisco CA 94132 United States San Francisco AL 2255 United States;X-APPLE-RADIUS=500;X-TITLE=1600 Holloway Ave\, San Francisco\, CA 94132\, United States:geo:92.2656,21.2656512
ATTACH;FMTTYPE=image/jpeg:https://doag.guam.gov/wp-doag-content/uploads/2016/08/IMG_5548.jpg
END:VEVENT
END:VCALENDAR